BEGIN:VCALENDAR
VERSION:2.0
PRODID:-//ChamberMaster//Event Calendar 2.0//EN
METHOD:PUBLISH
X-PUBLISHED-TTL:P1H
REFRESH-INTERVAL:P1H
CALSCALE:GREGORIAN
BEGIN:VTIMEZONE
TZID:America/New_York
BEGIN:DAYLIGHT
RRULE:FREQ=YEARLY;BYMONTH=3;BYDAY=2SU
DTSTART:20070101T000000
TZOFFSETFROM:-0500
TZOFFSETTO:-0400
TZNAME:Eastern Daylight Time
END:DAYLIGHT
BEGIN:STANDARD
RRULE:FREQ=YEARLY;BYMONTH=11;BYDAY=1SU
DTSTART:20070101T000000
TZOFFSETFROM:-0400
TZOFFSETTO:-0500
TZNAME:Eastern Standard Time
END:STANDARD
END:VTIMEZONE
BEGIN:VEVENT
DTSTART;TZID=America/New_York:20260610T170000
DTEND;TZID=America/New_York:20260610T190000
X-MICROSOFT-CDO-ALLDAYEVENT:FALSE
SUMMARY:MTC Member Only Frederick Happy Hour
DESCRIPTION:Join us for MTC member only Happy Hour at Shuckin' Shack in downtown Frederick on Wednesday\, June 10 from 5:00 PM to 7:00 PM. Unwind after work\, meet fellow MTC members\, and enjoy an evening of relaxed networking in a casual\, welcoming setting. This is a great opportunity to build new connections\, strengthen relationships\, and engage with the MTC community while enjoying great conversation and a fun\, social atmosphere. This member only event is free\, but pre-registration is required. We look forward to welcoming you and seeing you there.
X-ALT-DESC;FMTTYPE=text/html:<!DOCTYPE html><html><head><title></title></head><body aria-disabled="false"><p><meta charset="utf-8"></p><p data-end="338" data-start="253"><meta charset="utf-8">Join us for MTC member only Happy Hour at Shuckin&rsquo\; Shack in downtown Frederick on Wednesday\, June 10 from 5:00 PM to 7:00 PM. Unwind after work\, meet fellow MTC members\, and enjoy an evening of relaxed networking in a casual\, welcoming setting. This is a great opportunity to build new connections\, strengthen relationships\, and engage with the MTC community while enjoying great conversation and a fun\, social atmosphere. This member only event is free\, but pre-registration is required. We look forward to welcoming you and seeing you there.</p><p data-end="459" data-start="340"><br></p></body></html>
LOCATION:
UID:e.1005.1445071
SEQUENCE:3
DTSTAMP:20260421T124203Z
URL:https://members.mdtechcouncil.com/eventcalendar/Details/mtc-member-only-frederick-happy-hour-1711554?sourceTypeId=Hub
END:VEVENT
END:VCALENDAR
