BEGIN:VCALENDAR
VERSION:2.0
PRODID:-//ChamberMaster//Event Calendar 2.0//EN
METHOD:PUBLISH
X-PUBLISHED-TTL:P1H
REFRESH-INTERVAL:P1H
CALSCALE:GREGORIAN
BEGIN:VTIMEZONE
TZID:America/New_York
BEGIN:DAYLIGHT
RRULE:FREQ=YEARLY;BYMONTH=3;BYDAY=2SU
DTSTART:20070101T000000
TZOFFSETFROM:-0500
TZOFFSETTO:-0400
TZNAME:Eastern Daylight Time
END:DAYLIGHT
BEGIN:STANDARD
RRULE:FREQ=YEARLY;BYMONTH=11;BYDAY=1SU
DTSTART:20070101T000000
TZOFFSETFROM:-0400
TZOFFSETTO:-0500
TZNAME:Eastern Standard Time
END:STANDARD
END:VTIMEZONE
BEGIN:VEVENT
DTSTART;TZID=America/New_York:20260615T073000
DTEND;TZID=America/New_York:20260615T150000
X-MICROSOFT-CDO-ALLDAYEVENT:FALSE
SUMMARY:2026 MTC's 12th Annual Golf Tournament - NEW LOCATION AND DATE
DESCRIPTION:This year's tournament will be held at Maryland National Golf Club\, Middletown\, Frederick County.The day will begin with registration\, networking and driving range practice at 7:30 AM\, followed by a shotgun start at 9:00 AM. There will be raffles\, contests\, and a lot of friendly competition. After the tournament\, stay for a cocktail reception and awards.Sponsorship opportunities available!Contest Sponsor1 Complimentary foursomeDedicated hole to network directly with golfers and share company collateralVerbal recognition during cocktail receptionOpportunity to announce contest winner during cocktail reception (photo op)Logo placement on welcome bannerLogo placement on dedicated tee signLogo recognition on marketing promotions\, website and signagePromotion on social mediaHole Sponsor1 Complimentary foursomeVerbal recognition during cocktail receptionLogo placement on welcome bannerLogo placement on dedicated hole signLogo recognition on marketing promotions\, website and signageOpportunity to have a representative sit at the hole and greet golfers and share company collateralRaffle Item Sponsor  Add-On Sponsorship (does not include golf)Logo placement on special raffle item signOpportunity to announce raffle winnerValued at $250Tee Graphic Sponsor - $300Add-On Sponsorship (does not include golf)Opportunity to submit advertising design to be placed at hole18 available
X-ALT-DESC;FMTTYPE=text/html:<!DOCTYPE html><html><head><title></title></head><body aria-disabled="false"><p><strong fr-original-style="" style="font-weight: 700\;"><em><a href="mailto:WENDY@MDTECHCOUNCIL.COM" fr-original-style="" style="user-select: auto\;"></a></em></strong></p><p><span style="font-size: 14px\;"><span style="font-family: Arial\, Helvetica\, sans-serif\;">This year&rsquo\;s tournament will be held at Maryland National Golf Club\, Middletown\, Frederick County.</span></span></p><p><span style="font-size: 14px\;"><span style="font-family: Arial\,Helvetica\,sans-serif\;">The day will begin with registration\, networking and driving range practice at 7:30 AM\, followed by a shotgun start at 9:00 AM. There will be raffles\, contests\, and a lot of friendly competition. After the tournament\, stay for a cocktail reception and awards.</span></span></p><p><span style="font-size: 14px\;"><span style="font-family: Arial\, Helvetica\, sans-serif\;">Sponsorship opportunities available!</span></span></p><p><span style="font-size: 14px\;"><strong fr-original-style="" style="font-weight: 700\;">Contest Sponsor</strong></span></p><ul fr-original-style="" style="list-style-position: inside\;"><li style="font-size: 14px\;">1 Complimentary foursome</li><li style="font-size: 14px\;">Dedicated hole to network directly with golfers and share company collateral</li><li style="font-size: 14px\;">Verbal recognition during cocktail reception</li><li style="font-size: 14px\;">Opportunity to announce contest winner during cocktail reception (photo op)</li><li style="font-size: 14px\;">Logo placement on welcome banner</li><li style="font-size: 14px\;">Logo placement on dedicated tee sign</li><li style="font-size: 14px\;">Logo recognition on marketing promotions\, website and signage</li><li style="font-size: 14px\;">Promotion on social media</li></ul><p><span style="font-size: 14px\;"><strong fr-original-style="" style="font-weight: 700\;">Hole Sponsor</strong></span></p><ul fr-original-style="" style="list-style-position: inside\;"><li style="font-size: 14px\;">1 Complimentary foursome</li><li style="font-size: 14px\;">Verbal recognition during cocktail reception</li><li style="font-size: 14px\;">Logo placement on welcome banner</li><li style="font-size: 14px\;">Logo placement on dedicated hole sign</li><li style="font-size: 14px\;">Logo recognition on marketing promotions\, website and signage</li><li style="font-size: 14px\;">Opportunity to have a representative sit at the hole and greet golfers and share company collateral</li></ul><p><strong fr-original-style="" style="font-weight: 700\;"><span style="font-size: 14px\;">Raffle Item Sponsor &nbsp\;</span></strong></p><ul fr-original-style="" style="list-style-position: inside\;"><li style="font-size: 14px\;"><span style="font-size: 14px\;"><strong fr-original-style="" style="font-weight: 700\;">Add-On Sponsorship (does not include golf)</strong></span></li><li style="font-size: 14px\;">Logo placement on special raffle item sign</li><li style="font-size: 14px\;">Opportunity to announce raffle winner</li><li style="font-size: 14px\;">Valued at $250</li></ul><div data-olk-copy-source="MessageBody" style="border: 0px\; font-style: normal\; font-variant-ligatures: normal\; font-variant-caps: normal\; font-variant-numeric: inherit\; font-variant-east-asian: inherit\; font-variant-alternates: inherit\; font-variant-position: inherit\; font-variant-emoji: inherit\; font-weight: 400\; font-stretch: inherit\; font-size: 12pt\; line-height: inherit\; font-family: Aptos\, Arial\, Helvetica\, sans-serif\; font-optical-sizing: inherit\; font-size-adjust: inherit\; font-kerning: inherit\; font-feature-settings: inherit\; font-variation-settings: inherit\; font-language-override: inherit\; margin: 0px\; padding: 0px\; vertical-align: baseline\; color: rgb(0\, 0\, 0)\; letter-spacing: normal\; orphans: 2\; text-align: start\; text-indent: 0px\; text-transform: none\; widows: 2\; word-spacing: 0px\; -webkit-text-stroke-width: 0px\; white-space: normal\; background-color: rgb(255\, 255\, 255)\; text-decoration-thickness: initial\; text-decoration-style: initial\; text-decoration-color: initial\; direction: ltr\;"><span style="font-size: 14px\;"><strong fr-original-style="" style="font-weight: 700\;">Tee Graphic Sponsor - $300</strong></span></div><ul fr-original-style="" style="list-style-position: inside\;"><li style="font-size: 14px\;"><span style="font-size: 14px\;"><strong fr-original-style="" style="font-weight: 700\;">Add-On Sponsorship (does not include golf)</strong></span></li><li style="font-size: 14px\;">Opportunity to submit advertising design to be placed at hole</li><li style="font-size: 14px\;">18 available</li></ul><p><br></p></body></html>
LOCATION:
UID:e.1005.1362929
SEQUENCE:3
DTSTAMP:20260424T160142Z
URL:https://members.mdtechcouncil.com/eventcalendar/Details/2026-mtc-s-12th-annual-golf-tournament-new-location-and-date-1606151?sourceTypeId=Hub
END:VEVENT
END:VCALENDAR
